Workbook

Sheet Ohje
B2: CER-valmiuden arviointityökalu 2026 | F2: v.1.0
B4: Tähän työkaluun on koottu kansallisen lainsäädännön yhteiskunnan kriittisen infrastruktuurin suojaamisesta ja häiriönsietokyvyn parantamisesta (310/2025) mukaiset velvoitteet. Työkalu on tarkoitettu nimetyille kriittisille toimijoille nykyisen valmiuden itsearviointiin sekä kehitystarpeiden tunnistamiseen. Arvioinnin tekemiseen on suositeltavaa ottaa mukaan riittävästi organisaation asiantuntijoita, jotta arviointitulos olisi realistinen. Työkalu on osa opinnäytetyötä "Lakiin 310/2025 perustuva työkalu kriittisen toimijan CER-valmiuden itsearviointiin sekä toteutusta tukevat standardit ja opas", joka on ladattavissa osoitteesta:
B11: https://urn.fi/URN:NBN:fi:amk-2026060321175
B13: Käyttö
B15: 1. Vaihe
B16: Välilehdelle 1 täytetään kohteen ja toimijan tiedot. Voit halutessasi lisätä tiedon rakennuksesta, jos arviointi koskee ainoastaan tiettyä osaa. Valittavia toimialakohtia on kaksi, sillä jotkin toimijat voivat edustaa useampaa kuin yhtä lainsäädännössä määritettyä toimialaa.
B19: 2. Vaihe
B20: Välilehdelle 2 on koottu lainsäädännön velvoitteet, sekä toteuttamista tukevat standardit, oppaat ja ohjeet.
B21: Valitse F-sarakkeen alasvetovalikosta oma arviosi velvoitteen toteutumisesta.
B22: Lisää G-sarakkeeseen sisäisen dokumentin tunnus / nimi.
B23: Lisää H-sarakkeeseen mahdolliset lisähuomiot ja tarkennukset.
B25: 3. Vaihe
B26: Välilehdelle 3 muodostuu yhteenveto nykyisestä valmiudesta osa-alueittain suhteessa lainsäädännön velvoitteisiin.
... B31: Julkaisuversio

Sheet 1 - Lähtötiedot
B2: Lähtötiedot
B4: Organisaatio
B5: Toimipisteen osoite | L5: Valitse | M5: Valitse | N5: Valitse | O5: Valitse
B6: Postinumero | L6: Avaruus | M6: Energiavirasto (EV) | N6: Kriittinen toimija | O6: Kyllä
B7: Kaupunki | L7: Digitaalinen infrastruktuuri | M7: Elinvoimakeskus | N7: Euroopan kannalta erityisen merkittävä toimija | O7: Ei
B8: Rakennus | L8: Elintarvikeala | M8: Liikenne- ja viestintävirasto (Traficom) | N8: Ei tiedossa / En tiedä
L9: Energia | M9: Lääkealan turvallisuus- ja kehittämiskeskus (Fimea)
B10: Toimiala | C10: Valitse | L10: Julkishallinto | M10: Ruokavirasto
B11: Vaihtoehtoinen toinen toimiala | C11: Valitse | L11: Juomavesi | M11: Turvallisuus- ja kemikaalivirasto (Tukes)
B12: Toimialan tarkenne | L12: Jätevesi | M12: Lupa- ja valvontavirasto (LVV)
B13: Valvova viranomainen | C13: Valitse | L13: Liikenne | M13: Ei tiedossa / En tiedä
L14: Pankkiala
B15: Toimijan tyyppi | C15: Valitse | L15: Rahoitusmarkkinoiden infrastruktuuri
L16: Terveys
B18: Lisätiedot
B20: Toimija on tietoinen, että heihin sovelletaan myös kyberturvallisuuslakia (124/2025):
C21: Valitse
B23: Toimija on ilmoittautunut valvovan viranomaisen NIS2-toimijaluetteloon:
C24: Valitse

Sheet 2 - Velvoitteet
B2: C-sarakkeen merkitys
B3: C-sarakkeessa oleva lakipykälä kertoo, että velvoite tulee lainsäädännöstä. Lainsäädännöstä tulevat velvoitteet on selkeyden vuoksi myös värjätty vaalensinisellä taustavärillä.
B4: C-sarakkeessa oleva viiva (-) tarkoittaa, että kyseessä on vaihtoehtoisesti toteutettava suositus, joka perustuu standardeihin tai fyysisen suojauksen oppaaseen.
B6: Riskien arvioinnin toteuttamiseen saa tukea esimerkiksi ISO 31000 standardista.
B7: Linkki lainsäädäntöön: | E7: https://www.finlex.fi/fi/lainsaadanto/2025/310#chp_3__sec_14
C8: Riskiarviointi | L8: Valitse
B9: ID | C9: Läkipykälä | D9: Vaatimus | F9: Oma arviointi | G9: Sisäisen dokumentin tunnus / nimi | H9: Huomiot | L9: Kyllä / Huomioitu
B10: R1 | C10: - | D10: Riskien arvioinnin toteuttamisessa on hyödynnetty ISO 31000:n periaatteita tai muuta vastaavaa viitekehystä | F10: Valitse | L10: Osittain / Huomioitu osittain
B11: R2 | D11: Organisaation johto on sitoutunut riskien arviointiin ja varannut riittävät resurssit sen toteutukseen | F11: Valitse | L11: Ei / Ei huomioitu
B12: R3 | C12: 310/2025 14 § | D12: Toimija on tehnyt riskien arvioinnin muusta lainsäädännöstä tulevan velvoitteen takia, jossa arvioinnin kohde käsittää täysin tai osittain CER-lainsäädännön velvoitteet (katso kohdat R5 - R15). | F12: Valitse | L12: Ei sovellu / Ei toteutettavissa
B13: R4 | D13: Toimija on huomioinut riskiarviossaan kriittistä infrastruktuuria ja kriittisten toimijoiden häiriösietokykyä koskevan kansallisen riskiarvion (310/2026, 6 §) | F13: Valitse
B14: R5 | D14: Toimija on tehnyt riskiarvion neljän vuoden sisään JA riskiarviossa on huomioitu vähintään: | F14: Valitse
B15: R6 | D15: - Toimialakohtaiset tai rajat ylittävät riskit | F15: Valitse
B16: R7 | D16: - Onnettomuusriskit | F16: Valitse
B17: R8 | D17: - Luonnonkatastrofit | F17: Valitse
B18: R9 | D18: - Ilmastonmuutokseen liittyvät riskit | F18: Valitse
B19: R10 | D19: - Kansanterveydelliset hätätilanteet | F19: Valitse
B20: R11 | D20: - Hybridiuhat | F20: Valitse
B21: R12 | D21: - Muut mahdolliset uhat | F21: Valitse
B22: R13 | D22: - Muut merkittävät tietolähteet, kuten viranomaisilta saadut tiedot | F22: Valitse
B23: R14 | D23: - Muut toimivaltaisen ministeriön määrittämät uhat | F23: Valitse
B24: R15 | D24: - Missä määrin muut toimialat ovat riippuvaisia toimijan tarjoamasta keskeisestä palvelusta | F24: Valitse
B25: R16 | C25: - | D25: Riskien omistajat on nimetty | F25: Valitse
B28: Häiriönsietokyvyn varmistaminen ja sitä koskeva suunnitelma tulee perustua kriittisen toimijan tekemään riskiarvioon. Toteuttamiseen saa tukea esimerkiksi ISO 22301 standardista.
B29: Linkki lainsäädäntöön: | E29: https://www.finlex.fi/fi/lainsaadanto/2025/310#chp_3__sec_15
C30: Häiriönsietokyvyn varmistaminen ja häiriönsietokykyä koskeva suunnitelma
B31: ID | C31: Läkipykälä | D31: Vaatimus | F31: Oma arviointi | G31: Sisäisen dokumentin tunnus / nimi | H31: Huomiot
B32: H1 | C32: - | D32: Toteutuksessa hyödynnetty ISO 22301 standardia | F32: Valitse
B33: H2 | D33: Toimija on ISO 22301 sertifioitu | F33: Valitse
B34: H3 | D34: Organisaation johto on sitoutunut häiriönsietokyvyn parantamiseen ja varannut riittävät resurssit sen toteutukseen | F34: Valitse
B35: H4 | C35: 310 / 2025 15 § | D35: Toimija on tehnyt häiriönsietokykyä koskevan suunnitelman muusta lainsäädännöstä tulevan velvoitteen takia, joka käsittää täysin tai osittain CER-lainsäädännön velvoitteet (katso kohdat H6 - H14). | F35: Valitse
B36: H5 | D36: Häiriönsietokykyä koskeva suunnitelma on laadittu | F36: Valitse
B37: H6 | D37: Suunnitelma perustuu toimijan tekemään riskiarvioon JA suunnitelmassa on huomioitu vähintään: | F37: Valitse
B38: H7 | D38: - Toimenpiteet, joilla ehkäistään poikkeamien syntyminen | F38: Valitse
B39: H8 | D39: - Asianmukaiset toimenpiteet katastrofiriskien vähentämiseksi | F39: Valitse
B40: H9 | D40: - Asianmukaiset toimenpiteet ilmastonmuutokseen sopeutumiseksi | F40: Valitse
B41: H10 | D41: - Toimenpiteet poikkeamiin vastaamiseksi | F41: Valitse
B42: H11 | D42: - Toimenpiteet poikkeamien torjumiseksi | F42: Valitse
B43: H12 | D43: - Toimenpiteet poikkeamien lieventämiseksi | F43: Valitse
B44: H13 | D44: - Toimenpiteet poikkeamasta palautumiseen | F44: Valitse
B45: H14 | D45: - Toimenpiteet liiketoiminnan jatkuvuuden osalta | F45: Valitse
B46: H15 | D46: Suunnitelmasta on tiedotettu tarvittavia osapuolia | F46: Valitse
B47: H16 | D47: Suunnitelman toteutusaikataulusta on tiedotettu tarvittavia osapuolia | F47: Valitse
B48: H17 | D48: Yhteyshenkilö on nimetty tiedonkulun varmistamiseksi | F48: Valitse
B49: H18 | C49: - | D49: Suunnitelmien toimivuuden varmistamiseksi on järjestetty käytännön harjoituksia | F49: Valitse
B50: H19 | D50: Häiriönsietokykyä koskevia suunnitelmia ja toimenpiteitä jatkokehitetään jatkuvan parantamisen periaatteen mukaisesti harjoitteluissa tehtyjen havaintojen perusteella | F50: Valitse
B53: Fyysisen suojaamisen toteutuksen tulee perustua kriittisen toimijan tekemään riskiarvioon. Suojaamisen periaatteisiin ja toteukseen saa tukea esimerkiksi seuraavista oppaista ja ohjeista.
B54: Huoltovarmuuskeskus - Fyysisen suojauksen opas: | E54: https://www.huoltovarmuuskeskus.fi/tietoa-huoltovarmuudesta/aineistopankki/fyysisen-suojauksen-opas
B55: Finanssialan ohjeet: | E55: https://www.finanssiala.fi/aiheet/turvallisuusohjeet/
B56: Linkki lainsäädäntöön: | E56: https://www.finlex.fi/fi/lainsaadanto/2025/310#chp_3__sec_15
B57: ID | C57: Fyysinen suojaaminen
C58: Läkipykälä | D58: Vaatimus | F58: Oma arviointi | G58: Sisäisen dokumentin tunnus / nimi | H58: Huomiot
B59: F1 | C59: 310/2025 15 § | D59: Kriittiset toiminnot, tilat ja järjestelmät on tunnistettu | F59: Valitse
B60: F2 | D60: Fyysisen suojaamisen toteutuksen laajuus perustuu riskiarvioon | F60: Valitse
B61: F3 | D61: Fyysisen suojauksen toteutuksessa on huomioitu soveltuvin osin vähintään: - Aidat | F61: Valitse
B62: F4 | D62: - Muut esteet ja niiden pystyttäminen | F62: Valitse
B63: F5 | D63: - Kulunvalvontajärjestelmä | F63: Valitse
B64: F6 | D64: - Ilmaisulaitteet | F64: Valitse
B65: F7 | D65: - Kameravalvontajärjestelmä ¹ | F65: Valitse
B66: F8 | D66: - Murtohälytysjärjestelmä ¹ | F66: Valitse
B67: F9 | D67: - Rakenteet ja niiden vahvistaminen tarvittaessa ² | F67: Valitse
B68: F10 | D68: - Lukitusratkaisut ² | F68: Valitse
B69: F11 | D69: - Valaistus ² | F69: Valitse
B70: F12 | D70: - Vartiointipalvelut ² | F70: Valitse
B71: F13 | C71: - | D71: - Vyöhykesuojauksen periaate | F71: Valitse
B72: F14 | D72: - Lukitusratkaisuiden patenttien voimassaolo | F72: Valitse
B73: F15 | D73: - Hälytysten siirtolaitteet ja niitä palvelevat yhteydet | F73: Valitse
B74: F16 | D74: - Hälytyskeskuspalvelut | F74: Valitse
B75: F17 | D75: Toteutetut turvajärjestelmät on dokumentoitu JA dokumentaatiot ovat ajantasaisia | F75: Valitse
B77: ¹ Tulkinta laissa käytetystä termistä "ilmaisulaite".
B78: ² Tulkinta laissa käytetystä termistä "muusta fyysisestä suojaamisesta".
B81: Perusmuotoinen turvallisuusselvitys tulee tehdä henkilöistä, jotka toimivat tehtävissä, joissa voi vahingoittaa yhteiskunnan toimivuuden kannalta välttämättömän infrastruktuurin toimivuutta tai kriittisen tuotannon jatkumista taikka voi näissä tehtävissään saamiensa tietojen oikeudettomalla käytöllä merkittävällä tavalla vaarantaa valtion turvallisuutta tai edistää järjestäytynyttä rikollisuutta (726/2014, 19 §).
B83: Linkit lainsäädäntöön: | E83: https://www.finlex.fi/fi/lainsaadanto/2014/726#chp_4__sec_19
E84: https://www.finlex.fi/fi/lainsaadanto/2025/310#chp_6__sec_29
B85: ID | C85: Turvallisuusselvitykset
C86: Läkipykälä | D86: Vaatimus | F86: Oma arviointi | G86: Sisäisen dokumentin tunnus / nimi | H86: Huomiot
B87: T1 | C87: 310/2025 15 § & 29 § & 726/2014 19 § | D87: Turvallisuusselvitystä vaativat tehtävät on tunnistettu | F87: Valitse
B88: T2 | D88: Turvallisuusselvitykset on tehty tehtäviä hoitavista henkilöistä | F88: Valitse
B89: T3 | D89: Turvallisuusselvitykset kattavat soveltuvin osin myös palveluntuottajat | F89: Valitse
B90: T4 | D90: Turvallisuusselvitykset ovat osa työhöntuloprosessia | F90: Valitse
B91: T5 | D91: Pääsyoikeuksien myöntämisessä tiloihin, kriittiseen infrastruktuuriin, sekä arkaluontoisiin tietoihin vaatii hyväksytyn turvallisuusselvityksen | F91: Valitse
B92: T6 | D92: Henkilöstön osalta on huomioitu koulutusvaatimukset | F92: Valitse
B93: T7 | D93: Henkilöstön osalta on huomioitu pätevyysvaatimukset | F93: Valitse
B96: Kriittisen toimijan on ilmoitettava ilman aiheetonta viivytystä asianomaiselle valvovalle viranomaiselle ja Valtioneuvoston tilannekeskukselle merkittävästä poikkeamasta, joka häiritsee tai voi häiritä keskeisten palvelujen tarjoamista (310/2025, 16 §).
B97: Linkki lainsäädäntöön: | E97: https://www.finlex.fi/fi/lainsaadanto/2025/310#chp_4__sec_16
B98: ID | C98: Poikkeamailmoitukset
C99: Läkipykälä | D99: Vaatimus | F99: Oma arviointi | G99: Sisäisen dokumentin tunnus / nimi | H99: Huomiot
B100: P1 | C100: 310/2025 16 § & 17 § | D100: Poikkeamailmoitusmenettelyn vastuutaho on määritetty | F100: Valitse
B101: P2 | D101: Toimija on tietoinen ensi-ilmoituksen sisällöstä | F101: Valitse
B102: P3 | D102: Toimija on tietoinen yksityiskohtaisen raportin sisällöstä | F102: Valitse
B103: P4 | D103: Toimija on tietoinen ensi-ilmoituksen ja yksityiskohtaisen raportin toimittamisen aikarajoista | F103: Valitse
B120: ID | C120: Poikkeamailmoitukset ja ilmoituskäytänteet | L120: Yhteyspiste nimetty
D121: Vaatimus | F121: Oma arviointi | G121: Toimijan laatiman dokumentin tunnus | H121: Huomiot | L121: Yhteyspisteet nimetty osittain
B122: P1 | L122: Yhteyspistettä ei nimetty
B123: P2
B124: P3
B125: P4
B126: P5
B127: P6

Sheet 3 - Yhteenveto
B2: Nykyinen CER-valmius osa-alueittain
B4: Riskiarviointi
B5: Kyllä / Huomioitu | C5: =COUNTIF('2 - Velvoitteet'!F10:F25,"Kyllä / Huomioitu") -> 0 | F5: Kohtia yhteensä | G5: 16
B6: Osittain / Huomioitu osittain | C6: =COUNTIF('2 - Velvoitteet'!F10:F25,"Osittain / Huomioitu osittain") -> 0 | F6: Täytetty | G6: =COUNTIF('2 - Velvoitteet'!F10:F25,"Kyllä / Huomioitu") +COUNTIF('2 - Velvoitteet'!F10:F25,"Osittain / Huomioitu osittain") +COUNTIF('2 - Velvoitteet'!F10:F25,"Ei / Ei huomioitu") +COUNTIF('2 - Velvoitteet'!F10:F25,"Ei sovellu / Ei toteutettavissa") -> 0
B7: Ei / Ei huomioitu | C7: =COUNTIF('2 - Velvoitteet'!F10:F25,"Ei / Ei huomioitu") -> 0 | F7: Täyttämättä | G7: =G5-G6 -> 16
B8: Ei sovellu / Ei toteuttavissa | C8: =COUNTIF('2 - Velvoitteet'!F10:F25,"Ei sovellu / Ei toteutettavissa") -> 0 | F8: Täyttöaste | G8: =(G6/G5) -> 0
B24: Häiriönsietokyvyn varmistaminen ja häiriönsietokykyä koskeva suunnitelma
B25: Kyllä / Huomioitu | C25: =COUNTIF('2 - Velvoitteet'!F32:F50,"Kyllä / Huomioitu") -> 0 | F25: Kohtia yhteensä | G25: 19
B26: Osittain / Huomioitu osittain | C26: =COUNTIF('2 - Velvoitteet'!F32:F50,"Osittain / Huomioitu osittain") -> 0 | F26: Täytetty | G26: =COUNTIF('2 - Velvoitteet'!F32:F50,"Kyllä / Huomioitu") +COUNTIF('2 - Velvoitteet'!F32:F50,"Osittain / Huomioitu osittain") +COUNTIF('2 - Velvoitteet'!F32:F50,"Ei / Ei huomioitu") +COUNTIF('2 - Velvoitteet'!F32:F50,"Ei sovellu / Ei toteutettavissa") -> 0
B27: Ei / Ei huomioitu | C27: =COUNTIF('2 - Velvoitteet'!F32:F50,"Ei / Ei huomioitu") -> 0 | F27: Täyttämättä | G27: =G25-G26 -> 19
B28: Ei sovellu / Ei toteuttavissa | C28: =COUNTIF('2 - Velvoitteet'!F32:F50,"Ei sovellu / Ei toteutettavissa") -> 0 | F28: Täyttöaste | G28: =(G26/G25) -> 0
B44: Fyysinen suojaaminen
B45: Kyllä / Huomioitu | C45: =COUNTIF('2 - Velvoitteet'!F59:F75,"Kyllä / Huomioitu") -> 0 | F45: Kohtia yhteensä | G45: 17
B46: Osittain / Huomioitu osittain | C46: =COUNTIF('2 - Velvoitteet'!F59:F75,"Osittain / Huomioitu osittain") -> 0 | F46: Täytetty | G46: =COUNTIF('2 - Velvoitteet'!F59:F75,"Kyllä / Huomioitu") +COUNTIF('2 - Velvoitteet'!F59:F75,"Osittain / Huomioitu osittain") +COUNTIF('2 - Velvoitteet'!F59:F75,"Ei / Ei huomioitu") +COUNTIF('2 - Velvoitteet'!F59:F75,"Ei sovellu / Ei toteutettavissa") -> 0
B47: Ei / Ei huomioitu | C47: =COUNTIF('2 - Velvoitteet'!F59:F75,"Ei / Ei huomioitu") -> 0 | F47: Täyttämättä | G47: =G45-G46 -> 17
B48: Ei sovellu / Ei toteuttavissa | C48: =COUNTIF('2 - Velvoitteet'!F59:F75,"Ei sovellu / Ei toteutettavissa") -> 0 | F48: Täyttöaste | G48: =(G46/G45) -> 0
B64: Turvallisuusselvitykset
B65: Kyllä / Huomioitu | C65: =COUNTIF('2 - Velvoitteet'!F87:F93,"Kyllä / Huomioitu") -> 0 | F65: Kohtia yhteensä | G65: 7
B66: Osittain / Huomioitu osittain | C66: =COUNTIF('2 - Velvoitteet'!F87:F93,"Osittain / Huomioitu osittain") -> 0 | F66: Täytetty | G66: =COUNTIF('2 - Velvoitteet'!F87:F93,"Kyllä / Huomioitu") +COUNTIF('2 - Velvoitteet'!F87:F93,"Osittain / Huomioitu osittain") +COUNTIF('2 - Velvoitteet'!F87:F93,"Ei / Ei huomioitu") +COUNTIF('2 - Velvoitteet'!F87:F93,"Ei sovellu / Ei toteutettavissa") -> 0
B67: Ei / Ei huomioitu | C67: =COUNTIF('2 - Velvoitteet'!F87:F93,"Ei / Ei huomioitu") -> 0 | F67: Täyttämättä | G67: =G65-G66 -> 7
B68: Ei sovellu / Ei toteuttavissa | C68: =COUNTIF('2 - Velvoitteet'!F87:F93,"Ei sovellu / Ei toteutettavissa") -> 0 | F68: Täyttöaste | G68: =(G66/G65) -> 0
B84: Poikkeamailmoitukset
B85: Kyllä / Huomioitu | C85: =COUNTIF('2 - Velvoitteet'!F100:F103,"Kyllä / Huomioitu") -> 0 | F85: Kohtia yhteensä | G85: 4
B86: Osittain / Huomioitu osittain | C86: =COUNTIF('2 - Velvoitteet'!F100:F103,"Osittain / Huomioitu osittain") -> 0 | F86: Täytetty | G86: =COUNTIF('2 - Velvoitteet'!F100:F103,"Kyllä / Huomioitu") +COUNTIF('2 - Velvoitteet'!F100:F103,"Osittain / Huomioitu osittain") +COUNTIF('2 - Velvoitteet'!F100:F103,"Ei / Ei huomioitu") +COUNTIF('2 - Velvoitteet'!F100:F103,"Ei sovellu / Ei toteutettavissa") -> 0
B87: Ei / Ei huomioitu | C87: =COUNTIF('2 - Velvoitteet'!F100:F103,"Ei / Ei huomioitu") -> 0 | F87: Täyttämättä | G87: =G85-G86 -> 4
B88: Ei sovellu / Ei toteuttavissa | C88: =COUNTIF('2 - Velvoitteet'!F100:F103,"Ei sovellu / Ei toteutettavissa") -> 0 | F88: Täyttöaste | G88: =(G86/G85) -> 0
